Workbook
Name Axe_1: 'liste axe et volet'!$A$2:$A$3
Name Axe_2: 'liste axe et volet'!$B$2:$B$3
Name Axe_3: 'liste axe et volet'!$C$2:$C$3
Name Axe_4: 'liste axe et volet'!$D$2:$D$3
Name Liste_AccompagnementSocial: Listes!$F$2:$F$4
Name Liste_AnimationVieSociale: Listes!$G$2:$G$6
Name Liste_Enfance: Listes!$H$4:$H$9
Name Liste_Jeunesse: Listes!$I$2:$I$10
Name Liste_lieux: 'liste axe et volet'!$G$2:$G$5
Name Liste_Logement: Listes!$J$2:$J$7
Name Liste_SIRETdifferent: Listes!$D$2:$D$3
Name Liste_Thematiqueprojet: Listes!$E$2:$E$8
Name Volet_1___Actions_collectives_d_échanges_et_d_entraide_entre__parents: 'liste axe et volet'!$A$2:$A$3

Sheet lisez  moi 
A2: Précisions pour compléter cette demande
A5: ACCEDER A TOUS LES ITEMS DU DOCUMENT
A6: ce formulaire est composé avec un plan excel qu'il faut dérouler en appuyant sur les petits + sur le côté
A7: pour accéder à tous les items il faut cliquer sur le petit + sur le côté | B7: #VALUE!
A8: si vous voyez le petit - c'est que vous avez accès à tous les items
A20: COMPLETER LE DOCUMENT
A21: les cases à remplir sont identifiées par des zones de textes en blanc
A22: ce formulaire comporte des menus déroulants pour en faciliter la complétude
A24: POINT BUDGET
A25: le budget à saisir est le budget global du projet
A26: la ligne 7452 subvention d'exploitation caf se remplira automatiquement avec les éléments indiqués dans chaque fiche action
A27: cette ligne 7452 correspondra à un cumul des subventions cafs sollicitées pour l'action 1,2 ,3,4, 5 .
A28: important à noter : l'outil plafonnera la subvention caf à 80% du coût de l'action
A68: MODALITES DE TRANSMISSION DE LA DEMANDE
A70: A la CAF
A71: caf02-bp-action-sociale@caf02.caf.fr
... A74: asspartenaires.blf@picardie.msa.fr

Sheet Formulaire
D1: Formulaire de demande de subvention de fonctionnement FONDS NATIONAL PARENTALITE
C2: Les actions de soutien et d'accompagnement à la parentalité sont des actions mises en œuvre avec et pour les parents sur un territoire. Elles visent à mettre à leur disposition un ensemble de ressources, d'informations et de services pour les accompagner dans l'éducation de leurs enfants, aux moments clés de leur vie familiale, si et quand ils en ressentent le besoin. En valorisant les parents dans leur rôle, le soutien à la parentalité contribue à prévenir et accompagner les risques pouvant peser sur les relations intrafamiliales (ruptures familiales, relations conflictuelles parents/ados, etc.). Les actions parentalité soutenues par les Caf et leurs partenaires doivent s'inscrire dans le cadre de la Charte nationale de soutien à la Parentalité . Elles doivent également répondre aux exigences du Référentiel socle Parentalité et respecter les principes de la Charte de la laïcité de la branche Famille avec ses partenaires. | J2: Insérer lien vers la charte nationale de soutien à la parentalité, la charte de la laïcité et le référentiel socle parentalité
B4: Organisme demandeur
C6: Numéro SIREN de l'organisme demandeur | J6: Pré-alimenté
C9: Nom de l'organisme demandeur | J9: Pré-alimenté
C12: Nature juridique | J12: Pré-alimenté
C15: Commune | J15: Pré-alimenté
B18: Représentant légal | C18: Représentant légal
C20: Nom du représentant légal | D20: x | F20: Prénom du représentant légal | G20: x | J20: Champ à saisir - Obligatoire
C23: Fonction du représentant légal | D23: x | J23: Champ à saisir - Obligatoire
C26: Adresse mail du représentant légal | D26: x | J26: Champ à saisir - Obligatoire
B30: Référent du projet
C32: Nom du référent du projet | F32: Prénom du référent du projet | J32: Champ à saisir - Obligatoire
C35: Fonction du référent du projet | J35: Champ à saisir - Obligatoire
C38: Adresse mail du référent du projet | J38: Champ à saisir - Obligatoire
C41: Numéro de téléphone du référent du projet | J41: Champ à saisir - Obligatoire
B44: Activité(s) concernée(s) par la demande
C46: Veuillez sélectionner la Caf auprès de laquelle vous souhaitez déposer une demande * | F46: 028 Aisne | J46: Liste déroulante des Caf en cas de gestionnaire "multi-Caf" Caf unique si gestionnaire mono-Caf
C48: Votre demande de subvention concerne t'elle une activité pour laquelle vous percevez une prestation de service ? * Si votre demande concerne plusieurs activités financées par une prestation de service, veuillez cocher "non" | J48: Liste déroulante Oui/Non
C49: Si OUI | F49: si NON
C50: Veuillez indiquer l'équipement concerné | F50: Veuillez indiquer la nature d'activité concernée par le projet | J50: Veuillez sélectionner l'activité concernée dans la liste ci-dessous *
C52: Veuillez indiquer la principale prestation de service de l'équipement | F52: Si "Autres", indiquer le type d'activité * | J52: Sélection d'un équipempent/service du gestionnaire | L52: Si oui
C55: Veuillez apporter des précisions sur l'objet de la demande (par exemple, les activités concernées par la demande, le cas échéant) | J55: Champ à saisir - Obligatoire si "Non" sélectionné
B58: Adresse du déroulement du projet
C60: Où est localisé le projet ? Sélectionnez la bonne option | D60: Aucune de ces options | J60: Liste déroulante (un seul choix possible)
C62: Si vous avez répondu "Aucune de ces options", précisez le(s) territoire(s) concerné(s) | J62: Champ à saisir - Obligatoire si "Aucune de ces options" coché
C64: Adresse de déroulement du projet | D64: Lieu unique
J65: Liste déroulante (un seul choix possible)
C66: {=_xlfn.IFS( $D$64="Itinérante","Code postal du principal lieu de déroulement du projet", $D$64="Lieu unique","Numéro, type et nom de la voie", $D$64="Plusieurs lieux","Codes postaux des lieux de déroulement de l'action" )} -> Numéro, type et nom de la voie
J67: Si un équipement est sélectionné et si sélection "Lieu unique" , pré-alimenter avec l'adresse de l'équipement - Modifiable
C68: {=_xlfn.IFS( $D$64="Itinérante","Commune principal des lieux de déroulement du projet", $D$64="Lieu unique","Complément d'adresse", $D$64="Plusieurs lieux","Communes des lieux de déroulement du projet" )} -> Complément d'adresse | J68: Bouton "Rapatrier" pour garantir la bonne correspondance entre code postal et commune
C70: {=_xlfn.IFS( $D$64="Itinérante","Autres codes postaux des autres lieux ", $D$64="Lieu unique","Code postal", $D$64="Plusieurs lieux","Autres (territoire CTG-SDSF-département)" )} -> Code postal
C72: {=_xlfn.IFS( $D$64="Itinérante","Autres communes des autres lieux ", $D$64="Lieu unique","Commune du lieu de déroulement de l'action", $D$64="Plusieurs lieux","" )} -> Commune du lieu de déroulement de l'action
B76: Description opérationnelle du projet
C77: Présentation du projet
C79: Intitulé du projet | J79: Champ à saisir - Obligatoire
C81: Participez-vous à un comité d’animation locale ou départementale Parentalité ? | D81: Oui
C83: =IF(D81="Oui","Si oui, lequel ?"," ") -> Si oui, lequel ? | J83: Champ à saisir - Obligatoire si réponse "Oui"
D85: Axe_1 | E85: {=_xlfn.IFS( $D$85="Axe_1","Implication et participation des familles avec des interventions collectives", $D$85="Axe_2","Nouvelles formes d'accompagnement des parents avec des interventions individuelles", $D$85="Axe_3","Développement des services et lieux ressources parentalité", $D$85="Axe_4","Soutien des dynamiques d'animation et promotion de la parentalité sur les territoires" )} -> Implication et participation des familles avec des interventions collectives
C86: Axe concerné | J86: Liste déroulante (un seul choix possible)
...

Sheet Feuil6
A1: Projet reconduit
A2: Nouveau projet

Sheet Feuil5

Sheet Signature et Tranmission
B1: SIGNATURE & TRANSMISSION
B3: Signature électronique
B5: En qualité de déposant pour l'organisme demandeur
A7: FALSE | B7: Atteste que l'organisme respecte les principes de la Charte de la laïcité de la branche Famille avec ses partenaires
A8: FALSE | B8: Atteste que le projet Parentalité de l'organisme respecte les principes de la Charte nationale de soutien à la Parentalité et les exigences du Référentiel socle Parentalité
A9: FALSE | B9: Atteste, pour les associations ou les organismes de droit privé à but lucratif, avoir recours à un commissaire aux comptes, le cas échéant et selon les conditions applicables
A10: FALSE | B10: Certifie exactes et sincères les informations du présent dossier, notamment la mention de l'ensemble des demandes de subventions introduites auprès d'autres financeurs publics ainsi que l'approbation du budget par les instances statutaires
B12: RAPPEL : les associations ou fondations concernées doivent souscrire au contrat d'engagement républicain annexé au décret n° 2021-1947 du 31 décembre 2021 pris pour l'application de l'article 10-1 de la loi n° 2000-321 du 12 avril 2000 relative aux droits des citoyens dans leurs relations avec les administrations.

Sheet Récap
B1: ACTION 1 | C1: ACTION 2 | D1: ACTION 3 | E1: ACTION 4 | F1: ACTION 5
B2: =Formulaire!$D$85 -> Axe_1 | C2: =+Formulaire!F194 | D2: =+Formulaire!F282 | E2: =+Formulaire!F369 | F2: =+Formulaire!F456
B3: =+Formulaire!G107 -> 0 | C3: =+Formulaire!G195 -> 0 | D3: =+Formulaire!G283 -> 0 | E3: =+Formulaire!G370 -> 0 | F3: =+Formulaire!G457 -> 0
B4: =+Formulaire!D107 -> 0 | C4: =+Formulaire!D195 -> 0 | D4: =+Formulaire!D283 -> 0 | E4: =+Formulaire!D370 -> 0 | F4: =+Formulaire!D457 -> 0 | G4: TOTAL
A5: Coût de l'action/service 2027 | B5: =Formulaire!D182 -> 0 | C5: =Formulaire!D271 -> 0 | D5: =Formulaire!D358 -> 0 | E5: =Formulaire!D445 -> 0 | F5: =Formulaire!D533 -> 0 | G5: =SUM(B5:F5) -> 0
A6: Coût de l'action/service 2028 | B6: =Formulaire!D183 -> 0 | C6: =Formulaire!D272 -> 0 | D6: =Formulaire!D359 -> 0 | E6: =Formulaire!D446 -> 0 | F6: =Formulaire!D534 -> 0 | G6: =SUM(B6:F6) -> 0
A7: Coût de l'action/service 2029 | B7: =Formulaire!D184 -> 0 | C7: =Formulaire!D273 -> 0 | D7: =Formulaire!D360 -> 0 | E7: =Formulaire!D447 -> 0 | F7: =Formulaire!D535 -> 0 | G7: =SUM(B7:F7) -> 0
A8: Coût de l'action/service 2030 | B8: =Formulaire!D185 -> 0 | C8: =Formulaire!D274 -> 0 | D8: =Formulaire!D361 -> 0 | E8: =Formulaire!D448 -> 0 | F8: =Formulaire!D536 -> 0 | G8: =SUM(B8:F8) -> 0
F9: =Formulaire!D537 -> 0 | G9: TOTAL | J9: contrôle
H10: % CAF | J10: Budget
A11: Subvention Caf sollicitée pour l'action/service 2027 | B11: =Formulaire!D187 -> 0 | C11: =Formulaire!D276 -> 0 | D11: =Formulaire!D363 -> 0 | E11: =Formulaire!D450 -> 0 | F11: =Formulaire!D538 -> 0 | G11: =SUM(B11:F11) -> 0 | H11: =+G11/G5 -> #DIV/0! | J11: =+Formulaire!G566 -> 0
A12: Subvention Caf sollicitée pour l'action/service 2028 | B12: =Formulaire!D188 -> 0 | C12: =Formulaire!D277 -> 0 | D12: =Formulaire!D364 -> 0 | E12: =Formulaire!D451 -> 0 | F12: =Formulaire!D539 -> 0 | G12: =SUM(B12:F12) -> 0 | H12: =+G12/G6 -> #DIV/0! | J12: =+Formulaire!G614 -> 0
A13: Subvention Caf sollicitée pour l'action/service 2029 | B13: =Formulaire!D189 -> 0 | C13: =Formulaire!D278 -> 0 | D13: =Formulaire!D365 -> 0 | E13: =Formulaire!D452 -> 0 | F13: =Formulaire!D540 -> 0 | G13: =SUM(B13:F13) -> 0 | H13: =+G13/G7 -> #DIV/0! | J13: =+Formulaire!G659 -> 0
A14: Subvention Caf sollicitée pour l'action/service 2030 | B14: =Formulaire!D190 -> 0 | C14: =Formulaire!D279 -> 0 | D14: =Formulaire!D366 -> 0 | E14: =Formulaire!D453 -> 0 | F14: =Formulaire!D541 -> 0 | G14: =SUM(B14:F14) -> 0 | H14: =+G14/G8 -> #DIV/0! | J14: =+Formulaire!G704 -> 0

Sheet Feuil1
A1: 11 | B1: Ain | C1: =A1&" "&B1 -> 11 Ain
A2: 28 | B2: Aisne | C2: =A2&" "&B2 -> 28 Aisne
A3: 31 | B3: Allier | C3: =A3&" "&B3 -> 31 Allier
A4: 41 | B4: Alpes-de-Haute-Provence | C4: =A4&" "&B4 -> 41 Alpes-de-Haute-Provence
A5: 51 | B5: Hautes-Alpes | C5: =A5&" "&B5 -> 51 Hautes-Alpes
A6: 61 | B6: Alpes-Maritimes | C6: =A6&" "&B6 -> 61 Alpes-Maritimes
A7: 78 | B7: Ardèche | C7: =A7&" "&B7 -> 78 Ardèche
A8: 81 | B8: Ardennes | C8: =A8&" "&B8 -> 81 Ardennes
A9: 91 | B9: Ariège | C9: =A9&" "&B9 -> 91 Ariège
A10: 101 | B10: Aube | C10: =A10&" "&B10 -> 101 Aube
A11: 111 | B11: Aude | C11: =A11&" "&B11 -> 111 Aude
A12: 121 | B12: Aveyron | C12: =A12&" "&B12 -> 121 Aveyron
... A102: 951 | B102: Val d'Oise | C102: =A102&" "&B102 -> 951 Val d'Oise

Sheet Feuil4
A1: Axe 1 - Implication et participation des familles avec Interventions collectives | B1: Axe 2 – Nouvelles formes d'accompagnement des parents avec des interventions individuelles | C1: Axe 3 - Développement des services et lieux ressources parentalité | D1: Axe 4 – Soutien des dynamiques d'animation et promotion de la parentalité sur les territoires | AXE1: Axe 1 - Implication et participation des familles avec Interventions collectives | AXF1: Axe 2 – Nouvelles formes d'accompagnement des parents avec des interventions individuelles | AXG1: Axe 3 - Développement des services et lieux ressources parentalité | AXH1: Axe 4 – Soutien des dynamiques d'animation et promotion de la parentalité sur les territoires
A2: Volet 1 : Actions collectives d'échanges et d'entraide entre parents | B2: Volet 1 : Accompagnement des parents à distance | C2: Volet 1 : Poursuite de la couverture territoriale des lieux ressources parentalité | D2: Volet 1 Animation des réseaux d'acteurs parentalité à l'échelon départemental (y compris coordination des promeneurs du net parentalité) | AXE2: Volet 1 : Actions collectives d'échanges et d'entraide entre parents | AXF2: Volet 1 : Accompagnement des parents à distance | AXG2: Volet 1 : Poursuite de la couverture territoriale des lieux ressources parentalité | AXH2: Volet 1 Animation des réseaux d'acteurs parentalité à l'échelon départemental (y compris coordination des promeneurs du net parentalité)
A3: Volet 2 : Activités et ateliers partagés "parents-enfants" | C3: Volet 2 : Soutien des relais enfants-parents (REP) | D3: Volet 2 : Ressources pour les gestionnaires et promotion de soutien à la parentalité | AXE3: Volet 2 : Activités et ateliers partagés "parents-enfants" | AXG3: Volet 2 : Soutien des relais enfants-parents (REP) | AXH3: Volet 2 : Ressources pour les gestionnaires et promotion de soutien à la parentalité

Sheet Feuil3
A1: TRUE
A2: FALSE
A3: FALSE
A4: FALSE
A5: FALSE
A6: FALSE
A7: FALSE
A8: FALSE
A9: FALSE
A10: FALSE
A11: FALSE
A12: FALSE
... A14: FALSE

Sheet Feuil2
A1: 011 Ain
A2: 028 Aisne
A3: 031 Allier
A4: 041 Alpes-de-Haute-Provence
A5: 051 Hautes-Alpes
A6: 061 Alpes-Maritimes
A7: 078 Ardèche
A8: 081 Ardennes
A9: 091 Ariège
A10: 101 Aube
A11: 111 Aude
A12: 121 Aveyron
... A102: 951 Val d'Oise

Sheet Listes
A1: Statut juridique | B1: Cotisations URSSAF | C1: Lieu de déroulement du projet | D1: Type structure | E1: Axe concerné | F1: Votre projet | G1: Nombre d'action | H1: Pilotage | I1: Nouveau service ou action | J1: Si non précisez | K1: Deposer ELAN | L1: Axe 1 - Implication et participation des familles avec Interventions collectives | M1: Axe 2 – Nouvelles formes d'accompagnement des parents avec des interventions individuelles | N1: Axe 3 - Développement des services et lieux ressources parentalité | O1: Axe 4 – Soutien des dynamiques d'animation et promotion de la parentalité sur les territoires | P1: Thématique | Q1: Parents concerné | R1: Modalité de participation | S1: Participation financiere | T1: Type de participation | U1: moyen lever les freins | V1: Vocation | W1: Recrutement | X1: séance d'analyse | Y1: Numéro d'action | Z1: statut | AA1: Localisation projet | AB1: Nature activité | AC1: Lieu unique | AD1: Itinérante | AE1: Plusieurs lieux | AF1: Axe 1 - Implication et participation des familles avec Interventions collectives | AG1: Axe 2 – Nouvelles formes d'accompagnement des parents avec des interventions individuelles | AH1: Axe 3 - Développement des services et lieux ressources parentalité | AI1: Axe 4 – Soutien des dynamiques d'animation et promotion de la parentalité sur les territoires
A2: Administration d'Etat | B2: Oui | C2: Sélectionner le lieu du projet | D2: 01 - CCAS / CIAS | E2: Axe 1 - Implication et participation des familles avec Interventions collectives | F2: Nouveau projet | G2: 1 | H2: Oui | I2: Oui | J2: Evolution et poursuite avec aménagement | K2: Oui | L2: Volet 1 : Actions collectives d'échanges et d'entraide entre parents | M2: Volet 1 : Accompagnement des parents à distance | N2: Volet 1 : Poursuite de la couverture territoriale des lieux ressources parentalité | O2: Volet 1 Animation des réseaux d'acteurs parentalité à l'échelon départemental (y compris coordination des promeneurs du net parentalité) | P2: Arrivée d’un enfant | Q2: Tous les parents | R2: Associés à l’élaboration et l’évaluation de l’action/service | S2: Oui | T2: Adhésion annuelle | U2: Covoiturage | V2: Communale | W2: Oui | X2: Oui | Y2: Action 1 | Z2: Bénévole | AA2: Dans un quartier politique de la ville (QPV) | AB2: Accueil de loisirs sans hébergement | AC2: Numéro, type et nom de la voie | AD2: Codes postaux des lieux de déroulement du projet | AE2: Codes postaux des lieux de déroulement du projet
A3: Association, mutuelle ou CSE | B3: Non | C3: Lieu unique | D3: 02 - Centre social / Espace de vie sociale | E3: Axe 2 – Nouvelles formes d'accompagnement des parents avec des interventions individuelles | F3: Projet reconduit | G3: 2 | H3: Non | I3: Non | J3: Reconduction | K3: Non | L3: Volet 2 : Activités et ateliers partagés "parents-enfants" | N3: Volet 2 : Soutien des relais enfants-parents (REP) | O3: Volet 2 : Ressources pour les gestionnaires et promotion de soutien à la parentalité | P3: Handicap | Q3: Couple | R3: Co-intervenants ou intervenants ponctuels dans l’action/service | S3: Non | T3: Tarif modulé | U3: Garde d’enfants | V3: Intercommunale | W3: Non | X3: Non | Y3: Action 2 | Z3: Parent | AA3: En zone France Ruralités Revitalisation (FRR) | AB3: Aide et Accompagnement à Domicile | AC3: Complément d’adresse | AD3: Communes des lieux de déroulement de l’action | AE3: Communes des lieux de déroulement de l’action | AK3: Lieu unique
A4: Collectivité territoriale ou EPCI | C4: Itinérante | D4: 03 - Etablissement d’accueil du jeune enfant | E4: Axe 3 - Développement des services et lieux ressources parentalité | G4: 3 | J4: Report de l’action de l’année n-1 | P4: P@rents, parlons numérique | Q4: Futurs parents | R4: Relais d’information vers l’action/service | T4: Tarif unique | U4: Autres | V4: Départementale | Y4: Action 3 | Z4: Personnel mis à disposition | AA4: Dans un QPV et en zone FRR (si plusieurs lieux de déroulement du projet) | AB4: Centre social | AC4: Code postal | AD4: Commune | AE4: Autres (territoire CTG, SDSF, département) | AK4: Lieu unique
A5: Entreprise ou groupement d'entreprises | C5: Plusieurs lieux | D5: 04 - Relais Petite Enfance | E5: Axe 4 – Soutien des dynamiques d'animation et promotion de la parentalité sur les territoires | G5: 4 | P5: Relation Enfant / Parent | Q5: Mères uniquement | R5: Structure vers qui orienter les familles | V5: Itinérante | Y5: Action 4 | Z5: Prestataire | AA5: Aucune de ces options | AB5: Contrat Local d'Accompagnement à la Scolarité | AC5: Commune des lieux de déroulement de l’action | AK5: Lieu unique
D6: 05 - LAEP | G6: 5 | P6: Parent d’ado | Q6: Pères uniquement | R6: Autre | Y6: Action 5 | Z6: Salarié(e) de la structure | AB6: CTG - Chargé de coopération | AK6: Lieu unique
D7: 06 - Ludothèque / Médiathèque | P7: Répit Parental | Q7: Familles monoparentales | AB7: Espace de rencontre | AK7: Lieu unique
D8: 07- Maison des ados ou PAEJ | P8: Santé | AB8: Espace de Vie Sociale | AK8: Lieu unique
D9: 08- Médiation familiale ou Espace de rencontre | P9: Lien école / famille | AB9: Établissement d'Accueil du Jeune Enfant | AK9: Lieu unique
D10: 09- Lieux ressource Parentalité | P10: Séparation / Deuil | AB10: Foyer Jeunes Travailleurs | AK10: Lieu unique
D11: 10-Autres | P11: Autre | AB11: Lieu d'Accueil Enfants-Parents
AB12: Médiation familiale
AB13: Point Accueil Écoute Jeunes
AB14: Relais Petite Enfance
AB15: Structure Jeunesse
AB16: Aucun
AM18: Autres lieux du projet
AM19: *Codes postaux des lieux de déroulement du projet
AM21: *Communes des lieux de déroulement du projet
AK22: Itinérante
AK23: Itinérante
AK24: Plusieurs lieux | AM24: Lieu du projet choisi comme principal
AK26: Plusieurs lieux | AM26: *Code postal
AK27: Plusieurs lieux
AK28: Plusieurs lieux | AM28: *Commune
AK29: Plusieurs lieux
AM30: Autres lieux du projet
AM32: *Codes postaux des lieux de déroulement du projet
AM34: *Communes des lieux de déroulement du projet

Sheet liste axe et volet
A1: Axe_1 | B1: Axe_2 | C1: Axe_3 | D1: Axe_4 | L1: Axe 1 Implication et participation des familles avec Interventions collectives | M1: Axe 2 Nouvelles formes d'accompagnement des parents avec des interventions individuelles | N1: Axe 3 Développement des services et lieux ressources parentalité | O1: Axe 4 Soutien des dynamiques d'animation et promotion de la parentalité sur les territoires
A2: Volet 1 : Actions collectives d'échanges et d'entraide entre parents | B2: Volet 1 : Accompagnement des parents à distance | C2: Volet 1 : Poursuite de la couverture territoriale des lieux ressources parentalité | D2: Volet 1 : Animation des réseaux d'acteurs parentalité à l'échelon départemental (y compris coordination des promeneurs du net parentalité) | G2: Communale
A3: Volet 2 : Activités et ateliers partagés "parents-enfants" | C3: Volet 2 : Soutien des relais enfants-parents (REP) | D3: Volet 2 : Ressources pour les gestionnaires et promotion de soutien à la parentalité | G3: Intercommunale
G4: Départementale
G5: Itinérante
